BEGIN:VCALENDAR
VERSION:2.0
PRODID:-//Nativity Lutheran Church - ECPv6.15.20//NONSGML v1.0//EN
CALSCALE:GREGORIAN
METHOD:PUBLISH
X-WR-CALNAME:Nativity Lutheran Church
X-ORIGINAL-URL:https://www.nativitychurch.org
X-WR-CALDESC:Events for Nativity Lutheran Church
REFRESH-INTERVAL;VALUE=DURATION:PT1H
X-Robots-Tag:noindex
X-PUBLISHED-TTL:PT1H
BEGIN:VTIMEZONE
TZID:America/New_York
BEGIN:DAYLIGHT
TZOFFSETFROM:-0500
TZOFFSETTO:-0400
TZNAME:EDT
DTSTART:20210314T070000
END:DAYLIGHT
BEGIN:STANDARD
TZOFFSETFROM:-0400
TZOFFSETTO:-0500
TZNAME:EST
DTSTART:20211107T060000
END:STANDARD
BEGIN:DAYLIGHT
TZOFFSETFROM:-0500
TZOFFSETTO:-0400
TZNAME:EDT
DTSTART:20220313T070000
END:DAYLIGHT
BEGIN:STANDARD
TZOFFSETFROM:-0400
TZOFFSETTO:-0500
TZNAME:EST
DTSTART:20221106T060000
END:STANDARD
BEGIN:DAYLIGHT
TZOFFSETFROM:-0500
TZOFFSETTO:-0400
TZNAME:EDT
DTSTART:20230312T070000
END:DAYLIGHT
BEGIN:STANDARD
TZOFFSETFROM:-0400
TZOFFSETTO:-0500
TZNAME:EST
DTSTART:20231105T060000
END:STANDARD
END:VTIMEZONE
BEGIN:VTIMEZONE
TZID:America/Chicago
BEGIN:DAYLIGHT
TZOFFSETFROM:-0600
TZOFFSETTO:-0500
TZNAME:CDT
DTSTART:20210314T080000
END:DAYLIGHT
BEGIN:STANDARD
TZOFFSETFROM:-0500
TZOFFSETTO:-0600
TZNAME:CST
DTSTART:20211107T070000
END:STANDARD
BEGIN:DAYLIGHT
TZOFFSETFROM:-0600
TZOFFSETTO:-0500
TZNAME:CDT
DTSTART:20220313T080000
END:DAYLIGHT
BEGIN:STANDARD
TZOFFSETFROM:-0500
TZOFFSETTO:-0600
TZNAME:CST
DTSTART:20221106T070000
END:STANDARD
BEGIN:DAYLIGHT
TZOFFSETFROM:-0600
TZOFFSETTO:-0500
TZNAME:CDT
DTSTART:20230312T080000
END:DAYLIGHT
BEGIN:STANDARD
TZOFFSETFROM:-0500
TZOFFSETTO:-0600
TZNAME:CST
DTSTART:20231105T070000
END:STANDARD
BEGIN:DAYLIGHT
TZOFFSETFROM:-0600
TZOFFSETTO:-0500
TZNAME:CDT
DTSTART:20240310T080000
END:DAYLIGHT
BEGIN:STANDARD
TZOFFSETFROM:-0500
TZOFFSETTO:-0600
TZNAME:CST
DTSTART:20241103T070000
END:STANDARD
END:VTIMEZONE
BEGIN:VEVENT
DTSTART;TZID=America/New_York:20221225T090000
DTEND;TZID=America/New_York:20221225T100000
DTSTAMP:20260422T033107
CREATED:20221217T160929Z
LAST-MODIFIED:20230325T174656Z
UID:21920-1671958800-1671962400@www.nativitychurch.org
SUMMARY:Sunday Morning Worship 9:00 a.m.
DESCRIPTION:9:00 a.m.\nA service that blends together a variety of music and worship styles. Holy Communion is celebrated on the 1st & 3rd Sundays of the month and on festival Sundays. The participation of children in worship is encouraged; there is a time during the service when the children are invited to come forward for a special activity. Faith Formation for children up to grade 6 is available at the 9 & 10:30 a.m. services.\nFor more worship options\, visit our “Worship” page.
URL:https://www.nativitychurch.org/event/sunday-morning-family-worship-2/
LOCATION:Nativity Church\, 3312 Silver Lake Road\, St. Anthony\, MN\, 55418\, United States
CATEGORIES:Adult Events,Children's Events,Events,Ongoing Events,Pre-Birth Through Age 3,Sermon,Worship,Youth Events
ATTACH;FMTTYPE=image/jpeg:https://www.nativitychurch.org/wp-content/uploads/2018/06/NTV-SocialAd-Sunday-9-10-30am-Worship-Header.jpg
ORGANIZER;CN="Glenn Seefeldt":MAILTO:gseefeldt@nativitychurch.org
END:VEVENT
BEGIN:VEVENT
DTSTART;TZID=America/Chicago:20230917T091500
DTEND;TZID=America/Chicago:20230917T100000
DTSTAMP:20260422T033107
CREATED:20230828T190350Z
LAST-MODIFIED:20230828T190434Z
UID:22979-1694942100-1694944800@www.nativitychurch.org
SUMMARY:Children's Faith Formation
DESCRIPTION:Children’s Faith Formation is on break for a few weeks\, but registration for our Fall Session\, beginning Sept. 17th\, is open! \nAt Nativity\, we support families and children wherever they are on their journeys of faith. We strive to be a loving community where kids and their families can practice faith habits like prayer\, worship\, Bible study\, and service to others. Nativity partners with parents to nurture faith by encouraging children to love God and love our neighbor. \nThis fall Nativity will offer both in-person and online classes for ages 0-Kindergarten\, Grades 1-4\, and Grades 5-6 (Club 56). Learn more and register for our 2023-24 Children’s Faith Formation programming as well as our children’s music ministries at the link below. \nLearn More and Register HERE.
URL:https://www.nativitychurch.org/event/childrens-faith-formation/
LOCATION:Nativity Church\, 3312 Silver Lake Road\, St. Anthony\, MN\, 55418\, United States
CATEGORIES:Children and Youth,Children's Events
ATTACH;FMTTYPE=image/jpeg:https://www.nativitychurch.org/wp-content/uploads/2023/08/ChildrensFaithFormation.jpg
ORGANIZER;CN="Renee Hoffman":MAILTO:renee@nativitychurch.org
END:VEVENT
BEGIN:VEVENT
DTSTART;TZID=America/Chicago:20230917T101500
DTEND;TZID=America/Chicago:20230917T233000
DTSTAMP:20260422T033107
CREATED:20230828T190621Z
LAST-MODIFIED:20230828T190634Z
UID:22975-1694945700-1694993400@www.nativitychurch.org
SUMMARY:Children's Faith Formation
DESCRIPTION:Children’s Faith Formation is on break for a few weeks\, but registration for our Fall Session\, beginning Sept. 17th\, is open! \nAt Nativity\, we support families and children wherever they are on their journeys of faith. We strive to be a loving community where kids and their families can practice faith habits like prayer\, worship\, Bible study\, and service to others. Nativity partners with parents to nurture faith by encouraging children to love God and love our neighbor. \nThis fall Nativity will offer both in-person and online classes for ages 0-Kindergarten\, Grades 1-4\, and Grades 5-6 (Club 56). Learn more and register for our 2023-24 Children’s Faith Formation programming as well as our children’s music ministries at the link below. \nLearn More and Register HERE.
URL:https://www.nativitychurch.org/event/childrens-faith-formation-2/
LOCATION:Nativity Church\, 3312 Silver Lake Road\, St. Anthony\, MN\, 55418\, United States
CATEGORIES:Children and Youth,Children's Events,Events
ATTACH;FMTTYPE=image/jpeg:https://www.nativitychurch.org/wp-content/uploads/2023/08/ChildrensFaithFormation.jpg
ORGANIZER;CN="Renee Hoffman":MAILTO:renee@nativitychurch.org
END:VEVENT
BEGIN:VEVENT
DTSTART;TZID=America/Chicago:20220206T103000
DTEND;TZID=America/Chicago:20220206T113000
DTSTAMP:20260422T033107
CREATED:20220209T163031Z
LAST-MODIFIED:20230325T174846Z
UID:18809-1644143400-1644147000@www.nativitychurch.org
SUMMARY:Sunday Morning Worship 10:30 a.m.
DESCRIPTION:10:30 a.m.\nA service that blends together a variety of music and worship styles. Holy Communion is celebrated on the 1st & 3rd Sundays of the month and on festival Sundays. The participation of children in worship is encouraged; there is a time during the service when the children are invited to come forward for a special activity. Faith Formation for children up to grade 6 is available at the 9 & 10:30 a.m. services.\nFor more worship options\, visit our “Worship” page.
URL:https://www.nativitychurch.org/event/sunday-morning-family-worship-1030-a-m/
LOCATION:Nativity Church\, 3312 Silver Lake Road\, St. Anthony\, MN\, 55418\, United States
CATEGORIES:Adult Events,Children's Events,Events,Ongoing Events,Pre-Birth Through Age 3,Sermon,Worship,Youth Events
ATTACH;FMTTYPE=image/jpeg:https://www.nativitychurch.org/wp-content/uploads/2018/06/NTV-SocialAd-Sunday-9-10-30am-Worship-Header.jpg
ORGANIZER;CN="Glenn Seefeldt":MAILTO:gseefeldt@nativitychurch.org
END:VEVENT
END:VCALENDAR