BEGIN:VCALENDAR
VERSION:2.0
PRODID:-//Nativity Lutheran Church - ECPv6.15.20//NONSGML v1.0//EN
CALSCALE:GREGORIAN
METHOD:PUBLISH
X-WR-CALNAME:Nativity Lutheran Church
X-ORIGINAL-URL:https://www.nativitychurch.org
X-WR-CALDESC:Events for Nativity Lutheran Church
REFRESH-INTERVAL;VALUE=DURATION:PT1H
X-Robots-Tag:noindex
X-PUBLISHED-TTL:PT1H
BEGIN:VTIMEZONE
TZID:America/Chicago
BEGIN:DAYLIGHT
TZOFFSETFROM:-0600
TZOFFSETTO:-0500
TZNAME:CDT
DTSTART:20220313T080000
END:DAYLIGHT
BEGIN:STANDARD
TZOFFSETFROM:-0500
TZOFFSETTO:-0600
TZNAME:CST
DTSTART:20221106T070000
END:STANDARD
BEGIN:DAYLIGHT
TZOFFSETFROM:-0600
TZOFFSETTO:-0500
TZNAME:CDT
DTSTART:20230312T080000
END:DAYLIGHT
BEGIN:STANDARD
TZOFFSETFROM:-0500
TZOFFSETTO:-0600
TZNAME:CST
DTSTART:20231105T070000
END:STANDARD
BEGIN:DAYLIGHT
TZOFFSETFROM:-0600
TZOFFSETTO:-0500
TZNAME:CDT
DTSTART:20240310T080000
END:DAYLIGHT
BEGIN:STANDARD
TZOFFSETFROM:-0500
TZOFFSETTO:-0600
TZNAME:CST
DTSTART:20241103T070000
END:STANDARD
END:VTIMEZONE
BEGIN:VTIMEZONE
TZID:America/New_York
BEGIN:DAYLIGHT
TZOFFSETFROM:-0500
TZOFFSETTO:-0400
TZNAME:EDT
DTSTART:20210314T070000
END:DAYLIGHT
BEGIN:STANDARD
TZOFFSETFROM:-0400
TZOFFSETTO:-0500
TZNAME:EST
DTSTART:20211107T060000
END:STANDARD
BEGIN:DAYLIGHT
TZOFFSETFROM:-0500
TZOFFSETTO:-0400
TZNAME:EDT
DTSTART:20220313T070000
END:DAYLIGHT
BEGIN:STANDARD
TZOFFSETFROM:-0400
TZOFFSETTO:-0500
TZNAME:EST
DTSTART:20221106T060000
END:STANDARD
BEGIN:DAYLIGHT
TZOFFSETFROM:-0500
TZOFFSETTO:-0400
TZNAME:EDT
DTSTART:20230312T070000
END:DAYLIGHT
BEGIN:STANDARD
TZOFFSETFROM:-0400
TZOFFSETTO:-0500
TZNAME:EST
DTSTART:20231105T060000
END:STANDARD
END:VTIMEZONE
BEGIN:VEVENT
DTSTART;TZID=America/Chicago:20230325T053000
DTEND;TZID=America/Chicago:20230325T190000
DTSTAMP:20260424T060024
CREATED:20230325T172455Z
LAST-MODIFIED:20230325T172455Z
UID:22419-1679722200-1679770800@www.nativitychurch.org
SUMMARY:Bread for the World Letter Writing Campaign
DESCRIPTION:This month Nativity has observed Hunger Outreach Month\, a month of learning and action around the prevalence of food insecurity and the possibilities of addressing hunger in our community and in the world. \nAfter worship today members from the Hunger Outreach Team will be hosting a letter writing campaign for the international organization Bread for the World. You’ll find them at a table in the Commons. We’ll be writing letters to our Senators and Representatives\, advocating for continued nutrition programs at home and worldwide. Sample letters will be available as well as addresses of legislators. \nLetters we write today\, along with letters from thousands of others who are doing the same this month\, can help convince our nation’s leaders and the world’s leaders to institute or renew policies and programs that have been proven to work in addressing hunger. Join us in taking action and making a difference for those who need our support.
URL:https://www.nativitychurch.org/event/bread-for-the-world-letter-writing-campaign/
LOCATION:Nativity Church\, 3312 Silver Lake Road\, St. Anthony\, MN\, 55418\, United States
CATEGORIES:Adult Events,Events,Hunger Outreach
ATTACH;FMTTYPE=image/jpeg:https://www.nativitychurch.org/wp-content/uploads/2023/03/04-Bread-for-the-World-Announcement-Slide.jpg
ORGANIZER;CN="Kyle Soderberg":MAILTO:kyle@nativitychurch.org
END:VEVENT
BEGIN:VEVENT
DTSTART;TZID=America/Chicago:20230311T090000
DTEND;TZID=America/Chicago:20230311T100000
DTSTAMP:20260424T060024
CREATED:20230311T164910Z
LAST-MODIFIED:20230311T164910Z
UID:22342-1678525200-1678528800@www.nativitychurch.org
SUMMARY:Saturday at Nine: Conversation on Matters of Faith
DESCRIPTION:Saturday at Nine: Conversation on Matters of Faith is a community of people who seek to grow in Christian love by looking at contemporary issues through the lens of compassionate faith. For more information or the Zoom link to join\, contact Jerry Hoffman at jerjo.hoffman@gmail.com\, (763) 443-3353. To be placed on the contact list\, send your information by email to Jerry Hoffman.
URL:https://www.nativitychurch.org/event/saturday-at-nine-conversation-on-matters-of-faith/
LOCATION:ZOOM
CATEGORIES:Adult Events,Events,Social Justice
ATTACH;FMTTYPE=image/jpeg:https://www.nativitychurch.org/wp-content/uploads/2022/08/Saturday-at-Nine-Announcement-scaled.jpg
ORGANIZER;CN="Jerry Hoffman":MAILTO:jerjo.hoffman@gmail.com
END:VEVENT
BEGIN:VEVENT
DTSTART;TZID=America/New_York:20221217T173000
DTEND;TZID=America/New_York:20221217T183000
DTSTAMP:20260424T060024
CREATED:20221217T161009Z
LAST-MODIFIED:20230106T223625Z
UID:21921-1671298200-1671301800@www.nativitychurch.org
SUMMARY:Saturday Evening Worship
DESCRIPTION:Worship at Nativity\nNativity loves and accepts people as they are and wherever they are in their spiritual journey.\nA casual come-as-you-are service with a variety of music. Holy Communion is celebrated every week. Children are welcome.\nSaturdays don’t work for you? We have options! Visit our “Worship” page for more info.
URL:https://www.nativitychurch.org/event/saturday-evening-worship-3/
LOCATION:Nativity Lutheran Church\, 3312 Silver Lake Road\, St. Anthony\, MN\, 55418\, United States
CATEGORIES:Events,Music Events,Ongoing Events,Worship
ATTACH;FMTTYPE=image/jpeg:https://www.nativitychurch.org/wp-content/uploads/2018/05/NTV-SocialAd-Saturday-Worship-Header.jpg
END:VEVENT
END:VCALENDAR