BEGIN:VCALENDAR
VERSION:2.0
PRODID:-//Nativity Lutheran Church - ECPv6.15.20//NONSGML v1.0//EN
CALSCALE:GREGORIAN
METHOD:PUBLISH
X-WR-CALNAME:Nativity Lutheran Church
X-ORIGINAL-URL:https://www.nativitychurch.org
X-WR-CALDESC:Events for Nativity Lutheran Church
REFRESH-INTERVAL;VALUE=DURATION:PT1H
X-Robots-Tag:noindex
X-PUBLISHED-TTL:PT1H
BEGIN:VTIMEZONE
TZID:America/Chicago
BEGIN:DAYLIGHT
TZOFFSETFROM:-0600
TZOFFSETTO:-0500
TZNAME:CDT
DTSTART:20220313T080000
END:DAYLIGHT
BEGIN:STANDARD
TZOFFSETFROM:-0500
TZOFFSETTO:-0600
TZNAME:CST
DTSTART:20221106T070000
END:STANDARD
BEGIN:DAYLIGHT
TZOFFSETFROM:-0600
TZOFFSETTO:-0500
TZNAME:CDT
DTSTART:20230312T080000
END:DAYLIGHT
BEGIN:STANDARD
TZOFFSETFROM:-0500
TZOFFSETTO:-0600
TZNAME:CST
DTSTART:20231105T070000
END:STANDARD
BEGIN:DAYLIGHT
TZOFFSETFROM:-0600
TZOFFSETTO:-0500
TZNAME:CDT
DTSTART:20240310T080000
END:DAYLIGHT
BEGIN:STANDARD
TZOFFSETFROM:-0500
TZOFFSETTO:-0600
TZNAME:CST
DTSTART:20241103T070000
END:STANDARD
END:VTIMEZONE
BEGIN:VEVENT
DTSTART;TZID=America/Chicago:20230315T100000
DTEND;TZID=America/Chicago:20230315T113000
DTSTAMP:20260420T102732
CREATED:20230311T165133Z
LAST-MODIFIED:20230311T165159Z
UID:22343-1678874400-1678879800@www.nativitychurch.org
SUMMARY:Wednesday Morning Bible Study
DESCRIPTION:This growth group explores the scriptures by asking questions\, looking at current scholarship\, imagining life in ancient times\, and wondering how the Bible is relevant to life and faith today. Several weeks are spent with a specific book such as Life Lessons from Luke\, by Max Lucado; Which Way\, Lord: Exploring Life’s Purpose in the Journeys of Paul\, by Rob Fuquay; and Introducing the New Testament\, by Rev. Anne Robertson. The group is conversational\, and laughter is a valued part of the experience. \nThe group meets every Wednesday\, from 10:00-11:30 am. All are welcome. Two options are available\, Zoom and in person in the Commons. The facilitator is Pat Hendricks\, spiritual director and Nativity’s Coordinator of Vital Aging and Adult Faith Formation. Pat can be reached at bppat127@gmail.com\, or 763-221-8149.
URL:https://www.nativitychurch.org/event/wednesday-morning-bible-study/
LOCATION:Nativity Church\, 3312 Silver Lake Road\, St. Anthony\, MN\, 55418\, United States
CATEGORIES:Adult Events,Events
ATTACH;FMTTYPE=image/jpeg:https://www.nativitychurch.org/wp-content/uploads/2022/04/Blank-2667-x-1500-copy-3-scaled.jpg
END:VEVENT
BEGIN:VEVENT
DTSTART;TZID=America/Chicago:20230301T114500
DTEND;TZID=America/Chicago:20230301T123000
DTSTAMP:20260420T102732
CREATED:20230203T224224Z
LAST-MODIFIED:20230203T224224Z
UID:22185-1677671100-1677673800@www.nativitychurch.org
SUMMARY:Midweek Lenten Worship
DESCRIPTION:Midweek Lenten Worship services will be held Wednesdays from March 1-29 at 11:45 am (with lunch to follow) and 6:30 pm (immediately following the 5:30 pm Community Meals). For questions\, please contact Pastor Ben at Ben@NativityChurch.org.
URL:https://www.nativitychurch.org/event/midweek-lenten-worship-4/
LOCATION:Nativity Church\, 3312 Silver Lake Road\, St. Anthony\, MN\, 55418\, United States
CATEGORIES:Events,Worship
ATTACH;FMTTYPE=image/jpeg:https://www.nativitychurch.org/wp-content/uploads/2023/02/03-AshWedLent-Announcement-Slide.jpg
ORGANIZER;CN="Glenn Seefeldt":MAILTO:gseefeldt@nativitychurch.org
END:VEVENT
BEGIN:VEVENT
DTSTART;TZID=America/Chicago:20230301T123000
DTEND;TZID=America/Chicago:20230301T133000
DTSTAMP:20260420T102732
CREATED:20230311T165432Z
LAST-MODIFIED:20230401T164347Z
UID:22344-1677673800-1677677400@www.nativitychurch.org
SUMMARY:Lenten Lunches
DESCRIPTION:Wednesdays in March\, 12:30 pm and 5:30 pm | Nativity  \nA lunch of soup\, bread\, fruit\, dessert\, and drink will be served in the Commons for $5.00 per meal. A dinner of soup\, bread\, salad\, fruit\, dessert\, and drink will be served in the Fellowship Hall for $6.00/person or $20.00/family. Gluten-free and vegetarian options available at all meals. No one will be turned away due to cost.
URL:https://www.nativitychurch.org/event/lenten-lunches/
LOCATION:Nativity Church\, 3312 Silver Lake Road\, St. Anthony\, MN\, 55418\, United States
CATEGORIES:Adult Events,Events,Hospitality/Events
ATTACH;FMTTYPE=image/jpeg:https://www.nativitychurch.org/wp-content/uploads/2023/03/01-Lenten-Meals-Announcement-Slide.jpg
ORGANIZER;CN="Heather Anderson":MAILTO:heather@nativitychurch.org
END:VEVENT
BEGIN:VEVENT
DTSTART;TZID=America/Chicago:20230111T180000
DTEND;TZID=America/Chicago:20230111T190000
DTSTAMP:20260420T102732
CREATED:20230104T172851Z
LAST-MODIFIED:20230104T172852Z
UID:21997-1673460000-1673463600@www.nativitychurch.org
SUMMARY:Wednesday Yoga
DESCRIPTION:Our weekly yoga gathering is moving inside for the colder months! We will meet in person and also stream the class over Zoom for those who would like to participate virtually. Erica Bonde and Nancy Karkula teach every other week. Come and connect mind\, body and breath. All abilities are welcome. Join us Wednesdays from 6:00-7:00 pm in Room 123 or via Zoom. \nFor Zoom link or more information\, please contact Nancy at karkulayoga@gmail.com.
URL:https://www.nativitychurch.org/event/wednesday-yoga-2/
LOCATION:Nativity Church\, 3312 Silver Lake Road\, St. Anthony\, MN\, 55418\, United States
CATEGORIES:Adult Events,Events,Youth Events
ATTACH;FMTTYPE=image/jpeg:https://www.nativitychurch.org/wp-content/uploads/2020/03/familyyogapic.jpg
ORGANIZER;CN="Nancy Karkula":MAILTO:karkulayoga@gmail.com
END:VEVENT
BEGIN:VEVENT
DTSTART;TZID=America/Chicago:20230301T183000
DTEND;TZID=America/Chicago:20230301T193000
DTSTAMP:20260420T102732
CREATED:20230203T223843Z
LAST-MODIFIED:20230203T223843Z
UID:22183-1677695400-1677699000@www.nativitychurch.org
SUMMARY:Midweek Lenten Worship
DESCRIPTION:Midweek Lenten Worship services will be held Wednesdays from March 1-29 at 11:45 am (with lunch to follow) and 6:30 pm (immediately following the 5:30 pm Community Meals). For questions\, please contact Pastor Ben at Ben@NativityChurch.org.
URL:https://www.nativitychurch.org/event/midweek-lenten-worship-3/
LOCATION:Nativity Church\, 3312 Silver Lake Road\, St. Anthony\, MN\, 55418\, United States
CATEGORIES:Events,Worship
ATTACH;FMTTYPE=image/jpeg:https://www.nativitychurch.org/wp-content/uploads/2023/02/03-AshWedLent-Announcement-Slide.jpg
ORGANIZER;CN="Glenn Seefeldt":MAILTO:gseefeldt@nativitychurch.org
END:VEVENT
END:VCALENDAR