BEGIN:VCALENDAR
VERSION:2.0
PRODID:-//Nativity Lutheran Church - ECPv6.15.20//NONSGML v1.0//EN
CALSCALE:GREGORIAN
METHOD:PUBLISH
X-ORIGINAL-URL:https://www.nativitychurch.org
X-WR-CALDESC:Events for Nativity Lutheran Church
REFRESH-INTERVAL;VALUE=DURATION:PT1H
X-Robots-Tag:noindex
X-PUBLISHED-TTL:PT1H
BEGIN:VTIMEZONE
TZID:America/Chicago
BEGIN:DAYLIGHT
TZOFFSETFROM:-0600
TZOFFSETTO:-0500
TZNAME:CDT
DTSTART:20210314T080000
END:DAYLIGHT
BEGIN:STANDARD
TZOFFSETFROM:-0500
TZOFFSETTO:-0600
TZNAME:CST
DTSTART:20211107T070000
END:STANDARD
BEGIN:DAYLIGHT
TZOFFSETFROM:-0600
TZOFFSETTO:-0500
TZNAME:CDT
DTSTART:20220313T080000
END:DAYLIGHT
BEGIN:STANDARD
TZOFFSETFROM:-0500
TZOFFSETTO:-0600
TZNAME:CST
DTSTART:20221106T070000
END:STANDARD
BEGIN:DAYLIGHT
TZOFFSETFROM:-0600
TZOFFSETTO:-0500
TZNAME:CDT
DTSTART:20230312T080000
END:DAYLIGHT
BEGIN:STANDARD
TZOFFSETFROM:-0500
TZOFFSETTO:-0600
TZNAME:CST
DTSTART:20231105T070000
END:STANDARD
END:VTIMEZONE
BEGIN:VEVENT
DTSTART;TZID=America/Chicago:20220908T093000
DTEND;TZID=America/Chicago:20220908T110000
DTSTAMP:20260420T084205
CREATED:20220910T194600Z
LAST-MODIFIED:20221017T193549Z
UID:20140-1662629400-1662634800@www.nativitychurch.org
SUMMARY:Thursday Morning Book Conversations
DESCRIPTION:The Thursday Morning Book Conversations group will resume meeting online beginning September 8th. We study contemporary books on topics that challenge and inform our lives as followers of Jesus. This Thursday we’ll be starting a new book: Freeing Jesus: Rediscovering Jesus as Friend\, Teacher\, Savior\, Lord\, Way\, and Presence by Diana Butler Bass. We read the books slowly to give time for pondering the hard questions. Please join us Thursdays\, 9:30-11:00 am! For the Zoom link\, contact Julie Bonde\, madjules@gmail.com\, (612) 716-5538
URL:https://www.nativitychurch.org/event/thursday-morning-book-conversations-2/
LOCATION:Nativity Church\, 3312 Silver Lake Road\, St. Anthony\, MN\, 55418\, United States
CATEGORIES:Adult Events,Events
ATTACH;FMTTYPE=image/jpeg:https://www.nativitychurch.org/wp-content/uploads/2022/09/Thursday-Morning-Book-Image.jpg
ORGANIZER;CN="Julie Bonde":MAILTO:madjules@gmail.com
END:VEVENT
END:VCALENDAR